BEGIN:VCALENDAR
PRODID:-//Microsoft Corporation//Outlook 12.0 MIMEDIR//EN
VERSION:2.0
CALSCALE:GREGORIAN
BEGIN:VEVENT
UID: 59a67f80-8709-466d-8cbf-9843cd399eb0
SUMMARY:G2.C ja G2.B õpilaste õppekäik Kumusse, Fotografiskasse, Rahvusraamatukogusse
DTSTAMP:20250205
DTSTART:20250205
DTEND:20250206
DURATION:P1D
LOCATION:
DESCRIPTION: <p><strong>Link: </strong>https://www.yhisparnu.ee/et/koolituste-kalender/g2c-ja-g2b-opilaste-oppekaik-kumusse-fotografiskasse-rahvusraamatukogusse</p><p><strong>Hind: </strong></p>
STATUS:CONFIRMED
SEQUENCE:3
X-ALT-DESC;FMTTYPE=text/html:<p><strong>Link: </strong>https://www.yhisparnu.ee/et/koolituste-kalender/g2c-ja-g2b-opilaste-oppekaik-kumusse-fotografiskasse-rahvusraamatukogusse</p><p><strong>Hind: </strong></p>
X-MICROSOFT-CDO-BUSYSTATUS:OOF
X-MICROSOFT-CDO-IMPORTANCE:1
X-MICROSOFT-DISALLOW-COUNTER:FALSE
X-MS-OLK-ALLOWEXTERNCHECK:TRUE
X-MS-OLK-CONFTYPE:0
X-MICROSOFT-CDO-ALLDAYEVENT:1
X-MICROSOFT-MSNCALENDAR-ALLDAYEVENT:1
END:VEVENT
END:VCALENDAR