BEGIN:VCALENDAR
PRODID:-//Microsoft Corporation//Outlook 12.0 MIMEDIR//EN
VERSION:2.0
CALSCALE:GREGORIAN
BEGIN:VEVENT
UID: 5e5c4fdd-91d2-4077-9c71-ffeeb1672241
SUMMARY:Meditsiini valikkursuse õpilased osalevad suurõnnetuse õppusel
DTSTAMP:20260506
DTSTART:20260506
DTEND:20260507
DURATION:P1D
LOCATION:
DESCRIPTION: <p><span style="-webkit-text-stroke-width:0px;background-color:rgb(252, 254, 255);color:rgb(17, 17, 17);display:inline !important;float:none;font-family:&quot;Stuudium Sans&quot;, BlinkMacSystemFont, -apple-system, &quot;Segoe UI&quot;, Roboto, Helvetica, Arial, sans-serif;font-size:15px;font-style:normal;font-variant-caps:normal;font-variant-ligatures:normal;font-weight:400;letter-spacing:-0.135px;orphans:2;text-align:start;text-decoration-color:initial;text-decoration-style:initial;text-decoration-thickness:initial;text-indent:0px;text-transform:none;white-space:normal;widows:2;word-spacing:0px;">Meditsiini valikkursuse õpilased osalevad Manija saarel suurõnnetuse õppusel, mis simuleerib plahvatust koolilõpureisil, kus grupp (u 20 õpilast ja õpetaja) saab vigastada. Õppusel harjutatakse kiirabi, päästeameti, politsei ja merepääste koostööd reaalse suurõnnetuse lahendamisel. Suure tõenäosusega on liitumas ka päästekopter.</span><br><span style="-webkit-text-stroke-width:0px;background-color:rgb(252, 254, 255);color:rgb(17, 17, 17);display:inline !important;float:none;font-family:&quot;Stuudium Sans&quot;, BlinkMacSystemFont, -apple-system, &quot;Segoe UI&quot;, Roboto, Helvetica, Arial, sans-serif;font-size:15px;font-style:normal;font-variant-caps:normal;font-variant-ligatures:normal;font-weight:400;letter-spacing:-0.135px;orphans:2;text-align:start;text-decoration-color:initial;text-decoration-style:initial;text-decoration-thickness:initial;text-indent:0px;text-transform:none;white-space:normal;widows:2;word-spacing:0px;">Õppus kestab terve päeva.</span></p><p><strong>Link: </strong>https://www.yhisparnu.ee/et/koolituste-kalender/meditsiini-valikkursuse-opilased-osalevad-suuronnetuse-oppusel</p><p><strong>Hind: </strong></p>
STATUS:CONFIRMED
SEQUENCE:3
X-ALT-DESC;FMTTYPE=text/html:<p><span style="-webkit-text-stroke-width:0px;background-color:rgb(252, 254, 255);color:rgb(17, 17, 17);display:inline !important;float:none;font-family:&quot;Stuudium Sans&quot;, BlinkMacSystemFont, -apple-system, &quot;Segoe UI&quot;, Roboto, Helvetica, Arial, sans-serif;font-size:15px;font-style:normal;font-variant-caps:normal;font-variant-ligatures:normal;font-weight:400;letter-spacing:-0.135px;orphans:2;text-align:start;text-decoration-color:initial;text-decoration-style:initial;text-decoration-thickness:initial;text-indent:0px;text-transform:none;white-space:normal;widows:2;word-spacing:0px;">Meditsiini valikkursuse õpilased osalevad Manija saarel suurõnnetuse õppusel, mis simuleerib plahvatust koolilõpureisil, kus grupp (u 20 õpilast ja õpetaja) saab vigastada. Õppusel harjutatakse kiirabi, päästeameti, politsei ja merepääste koostööd reaalse suurõnnetuse lahendamisel. Suure tõenäosusega on liitumas ka päästekopter.</span><br><span style="-webkit-text-stroke-width:0px;background-color:rgb(252, 254, 255);color:rgb(17, 17, 17);display:inline !important;float:none;font-family:&quot;Stuudium Sans&quot;, BlinkMacSystemFont, -apple-system, &quot;Segoe UI&quot;, Roboto, Helvetica, Arial, sans-serif;font-size:15px;font-style:normal;font-variant-caps:normal;font-variant-ligatures:normal;font-weight:400;letter-spacing:-0.135px;orphans:2;text-align:start;text-decoration-color:initial;text-decoration-style:initial;text-decoration-thickness:initial;text-indent:0px;text-transform:none;white-space:normal;widows:2;word-spacing:0px;">Õppus kestab terve päeva.</span></p><p><strong>Link: </strong>https://www.yhisparnu.ee/et/koolituste-kalender/meditsiini-valikkursuse-opilased-osalevad-suuronnetuse-oppusel</p><p><strong>Hind: </strong></p>
X-MICROSOFT-CDO-BUSYSTATUS:OOF
X-MICROSOFT-CDO-IMPORTANCE:1
X-MICROSOFT-DISALLOW-COUNTER:FALSE
X-MS-OLK-ALLOWEXTERNCHECK:TRUE
X-MS-OLK-CONFTYPE:0
X-MICROSOFT-CDO-ALLDAYEVENT:1
X-MICROSOFT-MSNCALENDAR-ALLDAYEVENT:1
END:VEVENT
END:VCALENDAR